Workbook

Sheet Thang 1
A1: ĐẢNG CỘNG SẢN VIỆT NAM | E1: Mẫu báo cáo B01/ĐP
A2: Đơn vị báo cáo: Chi bộ 3 | E2: Ban hành kèm theo Công văn số 141-CV/VPTW/nb
A3: Đơn vị nhận báo cáo: Đảng bộ trường CĐKT Lý Tự Trọng | E3: Ngày 17-3-2011 của Văn phòng Trung ương Đảng
A4: BÁO CÁO THU, NỘP ĐẢNG PHÍ
A5: Tháng 01 năm 2016
A7: TT | B7: Chỉ tiêu | C7: Đơn vị tính | D7: Mã số | E7: Đảng bộ xã, phường, thị trấn | F7: Đảng bộ doanh nghiệp | G7: Đảng bộ khác | H7: Cộng | I7: Ghi chú
A8: A | B8: B | C8: C | D8: D | E8: 1 | F8: 2 | G8: 3 | H8: 4=1+2+3 | I8: E
A9: I | B9: Tổng số Đảng viên đến cuối kỳ báo cáo | C9: Người | D9: 01 | G9: 16
A10: II | B10: Đảng phí thu được từ chi bộ của cấp báo cáo | C10: Đồng
A11: 1 | B11: Kỳ báo cáo | C11: Đồng | D11: 02 | G11: 980792.38 | H11: =G11 -> 980792.38
A12: 2 | B12: Từ đầu năm đến cuối kỳ báo cáo | C12: Đồng | D12: 03 | G12: 980792.38 | H12: =G12 -> 980792.38
A13: III | B13: Đảng phí trích giữ lại ở các cấp | C13: Đồng
A14: 1 | B14: Kỳ báo cáo (05+06+07) | C14: Đồng | D14: 04
A15: 1.1 | B15: Chi bộ, đảng bộ bộ phận | C15: Đồng | D15: 5 | G15: =G11*30% -> 294237.71 | H15: =G15 -> 294237.71
A16: 1.2 | B16: Tổ chức cơ sở Đảng | C16: Đồng | D16: 6
A17: 1.3 | B17: Các cấp trên cơ sở | C17: Đồng | D17: 7 | G17: =G11*70% -> 686554.67 | H17: =G17 -> 686554.67
A18: 2 | B18: Từ đầu năm đến cuối kỳ báo cáo | C18: Đồng | D18: 8
A19: 2.1 | B19: Chi bộ, đảng bộ bộ phận | C19: Đồng | D19: 9 | G19: =G12*30% -> 294237.71 | H19: =G19 -> 294237.71
A20: 2.2 | B20: Tổ chức cơ sở Đảng | C20: Đồng | D20: 10
A21: 2.3 | B21: Các cấp trên cơ sở | C21: Đồng | D21: 11 | G21: =G12*70% -> 686554.67 | H21: =G21 -> 686554.67
A22: IV | B22: Đảng phí nộp cấp trên của cấp báo cáo | C22: Đồng
A23: 1 | B23: Số phải nộp kỳ báo cáo (02-04) | C23: Đồng | D23: 12 | G23: =G17 -> 686554.67 | H23: =G23 -> 686554.67
A24: 2 | B24: Từ đầu năm đến cuối kỳ báo cáo (03-08) | C24: Đồng | D24: 13 | G24: =G21 -> 686554.67 | H24: =G24 -> 686554.67
A25: 3 | B25: Số còn nợ chưa nộp cấp trên đến cuối kỳ báo cáo | C25: Đồng | D25: 14 | G25: 0 | H25: =G25 -> 0
G27: Ngày 20 tháng 01 năm 2016
B28: Người lập | G28: T/M Cấp ủy
G31: Võ Đắc Thịnh

Sheet Thang 2
A1: ĐẢNG CỘNG SẢN VIỆT NAM | E1: Mẫu báo cáo B01/ĐP
A2: Đơn vị báo cáo: Chi bộ 3 | E2: Ban hành kèm theo Công văn số 141-CV/VPTW/nb
A3: Đơn vị nhận báo cáo: Đảng bộ trường CĐKT Lý Tự Trọng | E3: Ngày 17-3-2011 của Văn phòng Trung ương Đảng
A4: BÁO CÁO THU, NỘP ĐẢNG PHÍ
A5: Tháng 02 năm 2016
A7: TT | B7: Chỉ tiêu | C7: Đơn vị tính | D7: Mã số | E7: Đảng bộ xã, phường, thị trấn | F7: Đảng bộ doanh nghiệp | G7: Đảng bộ khác | H7: Cộng | I7: Ghi chú
A8: A | B8: B | C8: C | D8: D | E8: 1 | F8: 2 | G8: 3 | H8: 4=1+2+3 | I8: E
A9: I | B9: Tổng số Đảng viên đến cuối kỳ báo cáo | C9: Người | D9: 01 | G9: 15
A10: II | B10: Đảng phí thu được từ chi bộ của cấp báo cáo | C10: Đồng
A11: 1 | B11: Kỳ báo cáo | C11: Đồng | D11: 02 | G11: 889997.58 | H11: =G11 -> 889997.58
A12: 2 | B12: Từ đầu năm đến cuối kỳ báo cáo | C12: Đồng | D12: 03 | G12: =G11+'Thang 1'!G12 -> 1870790 | H12: =G12 -> 1870790
A13: III | B13: Đảng phí trích giữ lại ở các cấp | C13: Đồng
A14: 1 | B14: Kỳ báo cáo (05+06+07) | C14: Đồng | D14: 04
A15: 1.1 | B15: Chi bộ, đảng bộ bộ phận | C15: Đồng | D15: 5 | G15: =G11*30% -> 266999.27 | H15: =G15 -> 266999.27
A16: 1.2 | B16: Tổ chức cơ sở Đảng | C16: Đồng | D16: 6
A17: 1.3 | B17: Các cấp trên cơ sở | C17: Đồng | D17: 7 | G17: =G11*70% -> 622998.31 | H17: =G17 -> 622998.31
A18: 2 | B18: Từ đầu năm đến cuối kỳ báo cáo | C18: Đồng | D18: 8
A19: 2.1 | B19: Chi bộ, đảng bộ bộ phận | C19: Đồng | D19: 9 | G19: =G12*30% -> 561236.99 | H19: =G19 -> 561236.99
A20: 2.2 | B20: Tổ chức cơ sở Đảng | C20: Đồng | D20: 10
A21: 2.3 | B21: Các cấp trên cơ sở | C21: Đồng | D21: 11 | G21: =G12*70% -> 1309553 | H21: =G21 -> 1309553
A22: IV | B22: Đảng phí nộp cấp trên của cấp báo cáo | C22: Đồng
A23: 1 | B23: Số phải nộp kỳ báo cáo (02-04) | C23: Đồng | D23: 12 | G23: =G17 -> 622998.31 | H23: =G23 -> 622998.31
A24: 2 | B24: Từ đầu năm đến cuối kỳ báo cáo (03-08) | C24: Đồng | D24: 13 | G24: =G21 -> 1309553 | H24: =G24 -> 1309553
A25: 3 | B25: Số còn nợ chưa nộp cấp trên đến cuối kỳ báo cáo | C25: Đồng | D25: 14 | G25: 0 | H25: =G25 -> 0
G27: Ngày 21 tháng 02 năm 2016
B28: Người lập | G28: T/M Cấp ủy
G31: Võ Đắc Thịnh

Sheet Thang 3
A1: ĐẢNG CỘNG SẢN VIỆT NAM | E1: Mẫu báo cáo B01/ĐP
A2: Đơn vị báo cáo: Chi bộ 3 | E2: Ban hành kèm theo Công văn số 141-CV/VPTW/nb
A3: Đơn vị nhận báo cáo: Đảng bộ trường CĐKT Lý Tự Trọng | E3: Ngày 17-3-2011 của Văn phòng Trung ương Đảng
A4: BÁO CÁO THU, NỘP ĐẢNG PHÍ
A5: Tháng 03 năm 2016
A7: TT | B7: Chỉ tiêu | C7: Đơn vị tính | D7: Mã số | E7: Đảng bộ xã, phường, thị trấn | F7: Đảng bộ doanh nghiệp | G7: Đảng bộ khác | H7: Cộng | I7: Ghi chú
A8: A | B8: B | C8: C | D8: D | E8: 1 | F8: 2 | G8: 3 | H8: 4=1+2+3 | I8: E
A9: I | B9: Tổng số Đảng viên đến cuối kỳ báo cáo | C9: Người | D9: 01 | G9: 15
A10: II | B10: Đảng phí thu được từ chi bộ của cấp báo cáo | C10: Đồng
A11: 1 | B11: Kỳ báo cáo | C11: Đồng | D11: 02 | G11: 889997.58 | H11: =G11 -> 889997.58
A12: 2 | B12: Từ đầu năm đến cuối kỳ báo cáo | C12: Đồng | D12: 03 | G12: =G11+'Thang 2'!G12 -> 2760787.5 | H12: =G12 -> 2760787.5
A13: III | B13: Đảng phí trích giữ lại ở các cấp | C13: Đồng
A14: 1 | B14: Kỳ báo cáo (05+06+07) | C14: Đồng | D14: 04
A15: 1.1 | B15: Chi bộ, đảng bộ bộ phận | C15: Đồng | D15: 5 | G15: =G11*30% -> 266999.27 | H15: =G15 -> 266999.27
A16: 1.2 | B16: Tổ chức cơ sở Đảng | C16: Đồng | D16: 6
A17: 1.3 | B17: Các cấp trên cơ sở | C17: Đồng | D17: 7 | G17: =G11*70% -> 622998.31 | H17: =G17 -> 622998.31
A18: 2 | B18: Từ đầu năm đến cuối kỳ báo cáo | C18: Đồng | D18: 8
A19: 2.1 | B19: Chi bộ, đảng bộ bộ phận | C19: Đồng | D19: 9 | G19: =G12*30% -> 828236.26 | H19: =G19 -> 828236.26
A20: 2.2 | B20: Tổ chức cơ sở Đảng | C20: Đồng | D20: 10
A21: 2.3 | B21: Các cấp trên cơ sở | C21: Đồng | D21: 11 | G21: =G12*70% -> 1932551.3 | H21: =G21 -> 1932551.3
A22: IV | B22: Đảng phí nộp cấp trên của cấp báo cáo | C22: Đồng
A23: 1 | B23: Số phải nộp kỳ báo cáo (02-04) | C23: Đồng | D23: 12 | G23: =G17 -> 622998.31 | H23: =G23 -> 622998.31
A24: 2 | B24: Từ đầu năm đến cuối kỳ báo cáo (03-08) | C24: Đồng | D24: 13 | G24: =G21 -> 1932551.3 | H24: =G24 -> 1932551.3
A25: 3 | B25: Số còn nợ chưa nộp cấp trên đến cuối kỳ báo cáo | C25: Đồng | D25: 14 | G25: 0 | H25: =G25 -> 0
G27: Ngày 21 tháng 3 năm 2016
B28: Người lập | G28: T/M Cấp ủy
G31: Võ Đắc Thịnh

Sheet Quy 1
A1: ĐẢNG CỘNG SẢN VIỆT NAM | E1: Mẫu báo cáo B01/ĐP
A2: Đơn vị báo cáo: Chi bộ 3 | E2: Ban hành kèm theo Công văn số 141-CV/VPTW/nb
A3: Đơn vị nhận báo cáo: Đảng bộ trường CĐKT Lý Tự Trọng | E3: Ngày 17-3-2011 của Văn phòng Trung ương Đảng
A4: BÁO CÁO THU, NỘP ĐẢNG PHÍ
A5: Quý 1 năm 2016
A7: TT | B7: Chỉ tiêu | C7: Đơn vị tính | D7: Mã số | E7: Đảng bộ xã, phường, thị trấn | F7: Đảng bộ doanh nghiệp | G7: Đảng bộ khác | H7: Cộng | I7: Ghi chú
A8: A | B8: B | C8: C | D8: D | E8: 1 | F8: 2 | G8: 3 | H8: 4=1+2+3 | I8: E
A9: I | B9: Tổng số Đảng viên đến cuối kỳ báo cáo | C9: Người | D9: 01 | G9: 16
A10: II | B10: Đảng phí thu được từ chi bộ của cấp báo cáo | C10: Đồng
A11: 1 | B11: Kỳ báo cáo | C11: Đồng | D11: 02 | G11: ='Thang 1'!G11+'Thang 2'!G11+'Thang 3'!G11 -> 2760787.5 | H11: =G11 -> 2760787.5
A12: 2 | B12: Từ đầu năm đến cuối kỳ báo cáo | C12: Đồng | D12: 03 | G12: 2760787.5 | H12: =G12 -> 2760787.5
A13: III | B13: Đảng phí trích giữ lại ở các cấp | C13: Đồng
A14: 1 | B14: Kỳ báo cáo (05+06+07) | C14: Đồng | D14: 04
A15: 1.1 | B15: Chi bộ, đảng bộ bộ phận | C15: Đồng | D15: 5 | G15: =G11*30% -> 828236.26 | H15: =G15 -> 828236.26
A16: 1.2 | B16: Tổ chức cơ sở Đảng | C16: Đồng | D16: 6
A17: 1.3 | B17: Các cấp trên cơ sở | C17: Đồng | D17: 7 | G17: =G11*70% -> 1932551.3 | H17: =G17 -> 1932551.3
A18: 2 | B18: Từ đầu năm đến cuối kỳ báo cáo | C18: Đồng | D18: 8
A19: 2.1 | B19: Chi bộ, đảng bộ bộ phận | C19: Đồng | D19: 9 | G19: =G12*30% -> 828236.26 | H19: =G19 -> 828236.26
A20: 2.2 | B20: Tổ chức cơ sở Đảng | C20: Đồng | D20: 10
A21: 2.3 | B21: Các cấp trên cơ sở | C21: Đồng | D21: 11 | G21: =G12*70% -> 1932551.3 | H21: =G21 -> 1932551.3
A22: IV | B22: Đảng phí nộp cấp trên của cấp báo cáo | C22: Đồng
A23: 1 | B23: Số phải nộp kỳ báo cáo (02-04) | C23: Đồng | D23: 12 | G23: =G17 -> 1932551.3 | H23: =G23 -> 1932551.3
A24: 2 | B24: Từ đầu năm đến cuối kỳ báo cáo (03-08) | C24: Đồng | D24: 13 | G24: =G21 -> 1932551.3 | H24: =G24 -> 1932551.3
A25: 3 | B25: Số còn nợ chưa nộp cấp trên đến cuối kỳ báo cáo | C25: Đồng | D25: 14 | G25: 0 | H25: =G25 -> 0
G27: Ngày 21 tháng 3 năm 2016
B28: Người lập | G28: T/M Cấp ủy
G32: Võ Đắc Thịnh

Sheet Thang 4
A1: ĐẢNG CỘNG SẢN VIỆT NAM | E1: Mẫu báo cáo B01/ĐP
A2: Đơn vị báo cáo: Chi bộ 3 | E2: Ban hành kèm theo Công văn số 141-CV/VPTW/nb
A3: Đơn vị nhận báo cáo: Đảng bộ trường CĐKT Lý Tự Trọng | E3: Ngày 17-3-2011 của Văn phòng Trung ương Đảng
A4: BÁO CÁO THU, NỘP ĐẢNG PHÍ
A5: Tháng 04 năm 2016
A7: TT | B7: Chỉ tiêu | C7: Đơn vị tính | D7: Mã số | E7: Đảng bộ xã, phường, thị trấn | F7: Đảng bộ doanh nghiệp | G7: Đảng bộ khác | H7: Cộng | I7: Ghi chú
A8: A | B8: B | C8: C | D8: D | E8: 1 | F8: 2 | G8: 3 | H8: 4=1+2+3 | I8: E
A9: I | B9: Tổng số Đảng viên đến cuối kỳ báo cáo | C9: Người | D9: 01 | G9: 16
A10: II | B10: Đảng phí thu được từ chi bộ của cấp báo cáo | C10: Đồng
A11: 1 | B11: Kỳ báo cáo | C11: Đồng | D11: 02 | G11: 926997.58 | H11: =G11 -> 926997.58
A12: 2 | B12: Từ đầu năm đến cuối kỳ báo cáo | C12: Đồng | D12: 03 | G12: =G11+'Thang 3'!G12 -> 3687785.1 | H12: =G12 -> 3687785.1
A13: III | B13: Đảng phí trích giữ lại ở các cấp | C13: Đồng
A14: 1 | B14: Kỳ báo cáo (05+06+07) | C14: Đồng | D14: 04
A15: 1.1 | B15: Chi bộ, đảng bộ bộ phận | C15: Đồng | D15: 5 | G15: =G11*30% -> 278099.27 | H15: =G15 -> 278099.27
A16: 1.2 | B16: Tổ chức cơ sở Đảng | C16: Đồng | D16: 6
A17: 1.3 | B17: Các cấp trên cơ sở | C17: Đồng | D17: 7 | G17: =G11*70% -> 648898.31 | H17: =G17 -> 648898.31
A18: 2 | B18: Từ đầu năm đến cuối kỳ báo cáo | C18: Đồng | D18: 8
A19: 2.1 | B19: Chi bộ, đảng bộ bộ phận | C19: Đồng | D19: 9 | G19: =G12*30% -> 1106335.5 | H19: =G19 -> 1106335.5
A20: 2.2 | B20: Tổ chức cơ sở Đảng | C20: Đồng | D20: 10
A21: 2.3 | B21: Các cấp trên cơ sở | C21: Đồng | D21: 11 | G21: =G12*70% -> 2581449.6 | H21: =G21 -> 2581449.6
A22: IV | B22: Đảng phí nộp cấp trên của cấp báo cáo | C22: Đồng
A23: 1 | B23: Số phải nộp kỳ báo cáo (02-04) | C23: Đồng | D23: 12 | G23: =G17 -> 648898.31 | H23: =G23 -> 648898.31
A24: 2 | B24: Từ đầu năm đến cuối kỳ báo cáo (03-08) | C24: Đồng | D24: 13 | G24: =G21 -> 2581449.6 | H24: =G24 -> 2581449.6
A25: 3 | B25: Số còn nợ chưa nộp cấp trên đến cuối kỳ báo cáo | C25: Đồng | D25: 14 | G25: 0 | H25: =G25 -> 0
G27: Ngày 9 tháng 4 năm 2016
B28: Người lập | G28: T/M Cấp ủy
G31: Võ Đắc Thịnh

Sheet Thang 5
A1: ĐẢNG CỘNG SẢN VIỆT NAM | E1: Mẫu báo cáo B01/ĐP
A2: Đơn vị báo cáo: Chi bộ 3 | E2: Ban hành kèm theo Công văn số 141-CV/VPTW/nb
A3: Đơn vị nhận báo cáo: Đảng bộ trường CĐKT Lý Tự Trọng | E3: Ngày 17-3-2011 của Văn phòng Trung ương Đảng
A4: BÁO CÁO THU, NỘP ĐẢNG PHÍ
A5: Tháng 05 năm 2016
A7: TT | B7: Chỉ tiêu | C7: Đơn vị tính | D7: Mã số | E7: Đảng bộ xã, phường, thị trấn | F7: Đảng bộ doanh nghiệp | G7: Đảng bộ khác | H7: Cộng | I7: Ghi chú
A8: A | B8: B | C8: C | D8: D | E8: 1 | F8: 2 | G8: 3 | H8: 4=1+2+3 | I8: E
A9: I | B9: Tổng số Đảng viên đến cuối kỳ báo cáo | C9: Người | D9: 01 | G9: 16
A10: II | B10: Đảng phí thu được từ chi bộ của cấp báo cáo | C10: Đồng
A11: 1 | B11: Kỳ báo cáo | C11: Đồng | D11: 02 | G11: 926997.58 | H11: =G11 -> 926997.58
A12: 2 | B12: Từ đầu năm đến cuối kỳ báo cáo | C12: Đồng | D12: 03 | G12: =G11+'Thang 4'!G12 -> 4614782.7 | H12: =G12 -> 4614782.7
A13: III | B13: Đảng phí trích giữ lại ở các cấp | C13: Đồng
A14: 1 | B14: Kỳ báo cáo (05+06+07) | C14: Đồng | D14: 04
A15: 1.1 | B15: Chi bộ, đảng bộ bộ phận | C15: Đồng | D15: 5 | G15: =G11*30% -> 278099.27 | H15: =G15 -> 278099.27
A16: 1.2 | B16: Tổ chức cơ sở Đảng | C16: Đồng | D16: 6
A17: 1.3 | B17: Các cấp trên cơ sở | C17: Đồng | D17: 7 | G17: =G11*70% -> 648898.31 | H17: =G17 -> 648898.31
A18: 2 | B18: Từ đầu năm đến cuối kỳ báo cáo | C18: Đồng | D18: 8
A19: 2.1 | B19: Chi bộ, đảng bộ bộ phận | C19: Đồng | D19: 9 | G19: =G12*30% -> 1384434.8 | H19: =G19 -> 1384434.8
A20: 2.2 | B20: Tổ chức cơ sở Đảng | C20: Đồng | D20: 10
A21: 2.3 | B21: Các cấp trên cơ sở | C21: Đồng | D21: 11 | G21: =G12*70% -> 3230347.9 | H21: =G21 -> 3230347.9
A22: IV | B22: Đảng phí nộp cấp trên của cấp báo cáo | C22: Đồng
A23: 1 | B23: Số phải nộp kỳ báo cáo (02-04) | C23: Đồng | D23: 12 | G23: =G17 -> 648898.31 | H23: =G23 -> 648898.31
A24: 2 | B24: Từ đầu năm đến cuối kỳ báo cáo (03-08) | C24: Đồng | D24: 13 | G24: =G21 -> 3230347.9 | H24: =G24 -> 3230347.9
A25: 3 | B25: Số còn nợ chưa nộp cấp trên đến cuối kỳ báo cáo | C25: Đồng | D25: 14 | G25: 0 | H25: =G25 -> 0
G27: Ngày 9 tháng 5 năm 2016
B28: Người lập | G28: T/M Cấp ủy
G31: Võ Đắc Thịnh

Sheet Thang 6
A1: ĐẢNG CỘNG SẢN VIỆT NAM | E1: Mẫu báo cáo B01/ĐP
A2: Đơn vị báo cáo: Chi bộ 3 | E2: Ban hành kèm theo Công văn số 141-CV/VPTW/nb
A3: Đơn vị nhận báo cáo: Đảng bộ trường CĐKT Lý Tự Trọng | E3: Ngày 17-3-2011 của Văn phòng Trung ương Đảng
A4: BÁO CÁO THU, NỘP ĐẢNG PHÍ
A5: Tháng 06 năm 2016
A7: TT | B7: Chỉ tiêu | C7: Đơn vị tính | D7: Mã số | E7: Đảng bộ xã, phường, thị trấn | F7: Đảng bộ doanh nghiệp | G7: Đảng bộ khác | H7: Cộng | I7: Ghi chú
A8: A | B8: B | C8: C | D8: D | E8: 1 | F8: 2 | G8: 3 | H8: 4=1+2+3 | I8: E
A9: I | B9: Tổng số Đảng viên đến cuối kỳ báo cáo | C9: Người | D9: 01 | G9: 16
A10: II | B10: Đảng phí thu được từ chi bộ của cấp báo cáo | C10: Đồng
A11: 1 | B11: Kỳ báo cáo | C11: Đồng | D11: 02 | G11: 926997.58 | H11: =G11 -> 926997.58
A12: 2 | B12: Từ đầu năm đến cuối kỳ báo cáo | C12: Đồng | D12: 03 | G12: =G11+'Thang 5'!G12 -> 5541780.3 | H12: =G12 -> 5541780.3
A13: III | B13: Đảng phí trích giữ lại ở các cấp | C13: Đồng
A14: 1 | B14: Kỳ báo cáo (05+06+07) | C14: Đồng | D14: 04
A15: 1.1 | B15: Chi bộ, đảng bộ bộ phận | C15: Đồng | D15: 5 | G15: =G11*30% -> 278099.27 | H15: =G15 -> 278099.27
A16: 1.2 | B16: Tổ chức cơ sở Đảng | C16: Đồng | D16: 6
A17: 1.3 | B17: Các cấp trên cơ sở | C17: Đồng | D17: 7 | G17: =G11*70% -> 648898.31 | H17: =G17 -> 648898.31
A18: 2 | B18: Từ đầu năm đến cuối kỳ báo cáo | C18: Đồng | D18: 8
A19: 2.1 | B19: Chi bộ, đảng bộ bộ phận | C19: Đồng | D19: 9 | G19: =G12*30% -> 1662534.1 | H19: =G19 -> 1662534.1
A20: 2.2 | B20: Tổ chức cơ sở Đảng | C20: Đồng | D20: 10
A21: 2.3 | B21: Các cấp trên cơ sở | C21: Đồng | D21: 11 | G21: =G12*70% -> 3879246.2 | H21: =G21 -> 3879246.2
A22: IV | B22: Đảng phí nộp cấp trên của cấp báo cáo | C22: Đồng
A23: 1 | B23: Số phải nộp kỳ báo cáo (02-04) | C23: Đồng | D23: 12 | G23: =G17 -> 648898.31 | H23: =G23 -> 648898.31
A24: 2 | B24: Từ đầu năm đến cuối kỳ báo cáo (03-08) | C24: Đồng | D24: 13 | G24: =G21 -> 3879246.2 | H24: =G24 -> 3879246.2
A25: 3 | B25: Số còn nợ chưa nộp cấp trên đến cuối kỳ báo cáo | C25: Đồng | D25: 14 | G25: 0 | H25: =G25 -> 0
G27: Ngày 9 tháng 6 năm 2016
B28: Người lập | G28: T/M Cấp ủy
G31: Võ Đắc Thịnh

Sheet Quy 2
A1: ĐẢNG CỘNG SẢN VIỆT NAM | E1: Mẫu báo cáo B01/ĐP
A2: Đơn vị báo cáo: Chi bộ 3 | E2: Ban hành kèm theo Công văn số 141-CV/VPTW/nb
A3: Đơn vị nhận báo cáo: Đảng bộ trường CĐKT Lý Tự Trọng | E3: Ngày 17-3-2011 của Văn phòng Trung ương Đảng
A4: BÁO CÁO THU, NỘP ĐẢNG PHÍ
A5: Quý 2 năm 2016
A7: TT | B7: Chỉ tiêu | C7: Đơn vị tính | D7: Mã số | E7: Đảng bộ xã, phường, thị trấn | F7: Đảng bộ doanh nghiệp | G7: Đảng bộ khác | H7: Cộng | I7: Ghi chú
A8: A | B8: B | C8: C | D8: D | E8: 1 | F8: 2 | G8: 3 | H8: 4=1+2+3 | I8: E
A9: I | B9: Tổng số Đảng viên đến cuối kỳ báo cáo | C9: Người | D9: 01 | G9: 16
A10: II | B10: Đảng phí thu được từ chi bộ của cấp báo cáo | C10: Đồng | M10: 2760787.5
A11: 1 | B11: Kỳ báo cáo | C11: Đồng | D11: 02 | G11: ='Thang 4'!G11+'Thang 5'!G11+'Thang 6'!G11 -> 2780992.7 | H11: =G11 -> 2780992.7 | M11: 2669992.7
A12: 2 | B12: Từ đầu năm đến cuối kỳ báo cáo | C12: Đồng | D12: 03 | G12: =G11+'Quy 1'!G12 -> 5541780.3 | H12: =G12 -> 5541780.3 | M12: =M10+M11 -> 5430780.3
A13: III | B13: Đảng phí trích giữ lại ở các cấp | C13: Đồng
A14: 1 | B14: Kỳ báo cáo (05+06+07) | C14: Đồng | D14: 04
A15: 1.1 | B15: Chi bộ, đảng bộ bộ phận | C15: Đồng | D15: 5 | G15: =G11*30% -> 834297.82 | H15: =G15 -> 834297.82
A16: 1.2 | B16: Tổ chức cơ sở Đảng | C16: Đồng | D16: 6
A17: 1.3 | B17: Các cấp trên cơ sở | C17: Đồng | D17: 7 | G17: =G11*70% -> 1946694.9 | H17: =G17 -> 1946694.9
A18: 2 | B18: Từ đầu năm đến cuối kỳ báo cáo | C18: Đồng | D18: 8
A19: 2.1 | B19: Chi bộ, đảng bộ bộ phận | C19: Đồng | D19: 9 | G19: =G12*30% -> 1662534.1 | H19: =G19 -> 1662534.1
A20: 2.2 | B20: Tổ chức cơ sở Đảng | C20: Đồng | D20: 10
A21: 2.3 | B21: Các cấp trên cơ sở | C21: Đồng | D21: 11 | G21: =G12*70% -> 3879246.2 | H21: =G21 -> 3879246.2
A22: IV | B22: Đảng phí nộp cấp trên của cấp báo cáo | C22: Đồng
A23: 1 | B23: Số phải nộp kỳ báo cáo (02-04) | C23: Đồng | D23: 12 | G23: =G17 -> 1946694.9 | H23: =G23 -> 1946694.9
A24: 2 | B24: Từ đầu năm đến cuối kỳ báo cáo (03-08) | C24: Đồng | D24: 13 | G24: =G21 -> 3879246.2 | H24: =G24 -> 3879246.2
A25: 3 | B25: Số còn nợ chưa nộp cấp trên đến cuối kỳ báo cáo | C25: Đồng | D25: 14 | G25: 0 | H25: =G25 -> 0
G27: Ngày 9 tháng 6 năm 2016
B28: Người lập | G28: T/M Cấp ủy
G32: Võ Đắc Thịnh

Sheet Thang 7
A1: ĐẢNG CỘNG SẢN VIỆT NAM | E1: Mẫu báo cáo B01/ĐP
A2: Đơn vị báo cáo: Chi bộ 3 | E2: Ban hành kèm theo Công văn số 141-CV/VPTW/nb
A3: Đơn vị nhận báo cáo: Đảng bộ trường CĐKT Lý Tự Trọng | E3: Ngày 17-3-2011 của Văn phòng Trung ương Đảng
A4: BÁO CÁO THU, NỘP ĐẢNG PHÍ
A5: Tháng 07 năm 2016
A7: TT | B7: Chỉ tiêu | C7: Đơn vị tính | D7: Mã số | E7: Đảng bộ xã, phường, thị trấn | F7: Đảng bộ doanh nghiệp | G7: Đảng bộ khác | H7: Cộng | I7: Ghi chú
A8: A | B8: B | C8: C | D8: D | E8: 1 | F8: 2 | G8: 3 | H8: 4=1+2+3 | I8: E
A9: I | B9: Tổng số Đảng viên đến cuối kỳ báo cáo | C9: Người | D9: 01 | G9: 15
A10: II | B10: Đảng phí thu được từ chi bộ của cấp báo cáo | C10: Đồng
A11: 1 | B11: Kỳ báo cáo | C11: Đồng | D11: 02 | G11: 862872.58 | H11: =G11 -> 862872.58
A12: 2 | B12: Từ đầu năm đến cuối kỳ báo cáo | C12: Đồng | D12: 03 | G12: =G11+'Thang 6'!G12 -> 6404652.9 | H12: =G12 -> 6404652.9
A13: III | B13: Đảng phí trích giữ lại ở các cấp | C13: Đồng
A14: 1 | B14: Kỳ báo cáo (05+06+07) | C14: Đồng | D14: 04
A15: 1.1 | B15: Chi bộ, đảng bộ bộ phận | C15: Đồng | D15: 5 | G15: =G11*30% -> 258861.77 | H15: =G15 -> 258861.77
A16: 1.2 | B16: Tổ chức cơ sở Đảng | C16: Đồng | D16: 6
A17: 1.3 | B17: Các cấp trên cơ sở | C17: Đồng | D17: 7 | G17: =G11*70% -> 604010.81 | H17: =G17 -> 604010.81
A18: 2 | B18: Từ đầu năm đến cuối kỳ báo cáo | C18: Đồng | D18: 8
A19: 2.1 | B19: Chi bộ, đảng bộ bộ phận | C19: Đồng | D19: 9 | G19: =G12*30% -> 1921395.9 | H19: =G19 -> 1921395.9
A20: 2.2 | B20: Tổ chức cơ sở Đảng | C20: Đồng | D20: 10
A21: 2.3 | B21: Các cấp trên cơ sở | C21: Đồng | D21: 11 | G21: =G12*70% -> 4483257 | H21: =G21 -> 4483257
A22: IV | B22: Đảng phí nộp cấp trên của cấp báo cáo | C22: Đồng
A23: 1 | B23: Số phải nộp kỳ báo cáo (02-04) | C23: Đồng | D23: 12 | G23: =G17 -> 604010.81 | H23: =G23 -> 604010.81
A24: 2 | B24: Từ đầu năm đến cuối kỳ báo cáo (03-08) | C24: Đồng | D24: 13 | G24: =G21 -> 4483257 | H24: =G24 -> 4483257
A25: 3 | B25: Số còn nợ chưa nộp cấp trên đến cuối kỳ báo cáo | C25: Đồng | D25: 14 | G25: 0 | H25: =G25 -> 0
G27: Ngày tháng năm 2016
B28: Người lập | G28: T/M Cấp ủy
G31: Võ Đắc Thịnh

Sheet Thang 8
A1: ĐẢNG CỘNG SẢN VIỆT NAM | E1: Mẫu báo cáo B01/ĐP
A2: Đơn vị báo cáo: Chi bộ 3 | E2: Ban hành kèm theo Công văn số 141-CV/VPTW/nb
A3: Đơn vị nhận báo cáo: Đảng bộ trường CĐKT Lý Tự Trọng | E3: Ngày 17-3-2011 của Văn phòng Trung ương Đảng
A4: BÁO CÁO THU, NỘP ĐẢNG PHÍ
A5: Tháng 08 năm 2016
A7: TT | B7: Chỉ tiêu | C7: Đơn vị tính | D7: Mã số | E7: Đảng bộ xã, phường, thị trấn | F7: Đảng bộ doanh nghiệp | G7: Đảng bộ khác | H7: Cộng | I7: Ghi chú
A8: A | B8: B | C8: C | D8: D | E8: 1 | F8: 2 | G8: 3 | H8: 4=1+2+3 | I8: E
A9: I | B9: Tổng số Đảng viên đến cuối kỳ báo cáo | C9: Người | D9: 01 | G9: 15
A10: II | B10: Đảng phí thu được từ chi bộ của cấp báo cáo | C10: Đồng
A11: 1 | B11: Kỳ báo cáo | C11: Đồng | D11: 02 | G11: 862872.58 | H11: =G11 -> 862872.58
A12: 2 | B12: Từ đầu năm đến cuối kỳ báo cáo | C12: Đồng | D12: 03 | G12: =G11+'Thang 7'!G12 -> 7267525.4 | H12: =G12 -> 7267525.4
A13: III | B13: Đảng phí trích giữ lại ở các cấp | C13: Đồng
A14: 1 | B14: Kỳ báo cáo (05+06+07) | C14: Đồng | D14: 04
A15: 1.1 | B15: Chi bộ, đảng bộ bộ phận | C15: Đồng | D15: 5 | G15: =G11*30% -> 258861.77 | H15: =G15 -> 258861.77
A16: 1.2 | B16: Tổ chức cơ sở Đảng | C16: Đồng | D16: 6
A17: 1.3 | B17: Các cấp trên cơ sở | C17: Đồng | D17: 7 | G17: =G11*70% -> 604010.81 | H17: =G17 -> 604010.81
A18: 2 | B18: Từ đầu năm đến cuối kỳ báo cáo | C18: Đồng | D18: 8
A19: 2.1 | B19: Chi bộ, đảng bộ bộ phận | C19: Đồng | D19: 9 | G19: =G12*30% -> 2180257.6 | H19: =G19 -> 2180257.6
A20: 2.2 | B20: Tổ chức cơ sở Đảng | C20: Đồng | D20: 10
A21: 2.3 | B21: Các cấp trên cơ sở | C21: Đồng | D21: 11 | G21: =G12*70% -> 5087267.8 | H21: =G21 -> 5087267.8
A22: IV | B22: Đảng phí nộp cấp trên của cấp báo cáo | C22: Đồng
A23: 1 | B23: Số phải nộp kỳ báo cáo (02-04) | C23: Đồng | D23: 12 | G23: =G17 -> 604010.81 | H23: =G23 -> 604010.81
A24: 2 | B24: Từ đầu năm đến cuối kỳ báo cáo (03-08) | C24: Đồng | D24: 13 | G24: =G21 -> 5087267.8 | H24: =G24 -> 5087267.8
A25: 3 | B25: Số còn nợ chưa nộp cấp trên đến cuối kỳ báo cáo | C25: Đồng | D25: 14 | G25: 0 | H25: =G25 -> 0
G27: Ngày tháng năm 2016
B28: Người lập | G28: T/M Cấp ủy
G31: Võ Đắc Thịnh

Sheet Thang 9
A1: ĐẢNG CỘNG SẢN VIỆT NAM | E1: Mẫu báo cáo B01/ĐP
A2: Đơn vị báo cáo: Chi bộ 3 | E2: Ban hành kèm theo Công văn số 141-CV/VPTW/nb
A3: Đơn vị nhận báo cáo: Đảng bộ trường CĐKT Lý Tự Trọng | E3: Ngày 17-3-2011 của Văn phòng Trung ương Đảng
A4: BÁO CÁO THU, NỘP ĐẢNG PHÍ
A5: Tháng 09 năm 2016
A7: TT | B7: Chỉ tiêu | C7: Đơn vị tính | D7: Mã số | E7: Đảng bộ xã, phường, thị trấn | F7: Đảng bộ doanh nghiệp | G7: Đảng bộ khác | H7: Cộng | I7: Ghi chú
A8: A | B8: B | C8: C | D8: D | E8: 1 | F8: 2 | G8: 3 | H8: 4=1+2+3 | I8: E
A9: I | B9: Tổng số Đảng viên đến cuối kỳ báo cáo | C9: Người | D9: 01 | G9: 15
A10: II | B10: Đảng phí thu được từ chi bộ của cấp báo cáo | C10: Đồng
A11: 1 | B11: Kỳ báo cáo | C11: Đồng | D11: 02 | G11: 862872.58 | H11: =G11 -> 862872.58
A12: 2 | B12: Từ đầu năm đến cuối kỳ báo cáo | C12: Đồng | D12: 03 | G12: =G11+'Thang 8'!G12 -> 8130398 | H12: =G12 -> 8130398
A13: III | B13: Đảng phí trích giữ lại ở các cấp | C13: Đồng
A14: 1 | B14: Kỳ báo cáo (05+06+07) | C14: Đồng | D14: 04
A15: 1.1 | B15: Chi bộ, đảng bộ bộ phận | C15: Đồng | D15: 5 | G15: =G11*30% -> 258861.77 | H15: =G15 -> 258861.77
A16: 1.2 | B16: Tổ chức cơ sở Đảng | C16: Đồng | D16: 6
A17: 1.3 | B17: Các cấp trên cơ sở | C17: Đồng | D17: 7 | G17: =G11*70% -> 604010.81 | H17: =G17 -> 604010.81
A18: 2 | B18: Từ đầu năm đến cuối kỳ báo cáo | C18: Đồng | D18: 8
A19: 2.1 | B19: Chi bộ, đảng bộ bộ phận | C19: Đồng | D19: 9 | G19: =G12*30% -> 2439119.4 | H19: =G19 -> 2439119.4
A20: 2.2 | B20: Tổ chức cơ sở Đảng | C20: Đồng | D20: 10
A21: 2.3 | B21: Các cấp trên cơ sở | C21: Đồng | D21: 11 | G21: =G12*70% -> 5691278.6 | H21: =G21 -> 5691278.6
A22: IV | B22: Đảng phí nộp cấp trên của cấp báo cáo | C22: Đồng
A23: 1 | B23: Số phải nộp kỳ báo cáo (02-04) | C23: Đồng | D23: 12 | G23: =G17 -> 604010.81 | H23: =G23 -> 604010.81
A24: 2 | B24: Từ đầu năm đến cuối kỳ báo cáo (03-08) | C24: Đồng | D24: 13 | G24: =G21 -> 5691278.6 | H24: =G24 -> 5691278.6
A25: 3 | B25: Số còn nợ chưa nộp cấp trên đến cuối kỳ báo cáo | C25: Đồng | D25: 14 | G25: 0 | H25: =G25 -> 0
G27: Ngày tháng năm 2016
B28: Người lập | G28: T/M Cấp ủy
G31: Võ Đắc Thịnh

Sheet Quy 3
A1: ĐẢNG CỘNG SẢN VIỆT NAM | E1: Mẫu báo cáo B01/ĐP
A2: Đơn vị báo cáo: Chi bộ 3 | E2: Ban hành kèm theo Công văn số 141-CV/VPTW/nb
A3: Đơn vị nhận báo cáo: Đảng bộ trường CĐKT Lý Tự Trọng | E3: Ngày 17-3-2011 của Văn phòng Trung ương Đảng
A4: BÁO CÁO THU, NỘP ĐẢNG PHÍ
A5: Quý 3 năm 2016
A7: TT | B7: Chỉ tiêu | C7: Đơn vị tính | D7: Mã số | E7: Đảng bộ xã, phường, thị trấn | F7: Đảng bộ doanh nghiệp | G7: Đảng bộ khác | H7: Cộng | I7: Ghi chú
A8: A | B8: B | C8: C | D8: D | E8: 1 | F8: 2 | G8: 3 | H8: 4=1+2+3 | I8: E
A9: I | B9: Tổng số Đảng viên đến cuối kỳ báo cáo | C9: Người | D9: 01 | G9: 15
A10: II | B10: Đảng phí thu được từ chi bộ của cấp báo cáo | C10: Đồng | M10: 2760787.5
A11: 1 | B11: Kỳ báo cáo | C11: Đồng | D11: 02 | G11: ='Thang 7'!G11+'Thang 8'!G11+'Thang 9'!G11 -> 2588617.7 | H11: =G11 -> 2588617.7 | M11: 2669992.7
A12: 2 | B12: Từ đầu năm đến cuối kỳ báo cáo | C12: Đồng | D12: 03 | G12: =G11+'Quy 1'!G12 -> 5349405.3 | H12: =G12 -> 5349405.3 | M12: =M10+M11 -> 5430780.3
A13: III | B13: Đảng phí trích giữ lại ở các cấp | C13: Đồng
A14: 1 | B14: Kỳ báo cáo (05+06+07) | C14: Đồng | D14: 04
A15: 1.1 | B15: Chi bộ, đảng bộ bộ phận | C15: Đồng | D15: 5 | G15: =G11*30% -> 776585.32 | H15: =G15 -> 776585.32
A16: 1.2 | B16: Tổ chức cơ sở Đảng | C16: Đồng | D16: 6
A17: 1.3 | B17: Các cấp trên cơ sở | C17: Đồng | D17: 7 | G17: =G11*70% -> 1812032.4 | H17: =G17 -> 1812032.4
A18: 2 | B18: Từ đầu năm đến cuối kỳ báo cáo | C18: Đồng | D18: 8
A19: 2.1 | B19: Chi bộ, đảng bộ bộ phận | C19: Đồng | D19: 9 | G19: =G12*30% -> 1604821.6 | H19: =G19 -> 1604821.6
A20: 2.2 | B20: Tổ chức cơ sở Đảng | C20: Đồng | D20: 10
A21: 2.3 | B21: Các cấp trên cơ sở | C21: Đồng | D21: 11 | G21: =G12*70% -> 3744583.7 | H21: =G21 -> 3744583.7
A22: IV | B22: Đảng phí nộp cấp trên của cấp báo cáo | C22: Đồng
A23: 1 | B23: Số phải nộp kỳ báo cáo (02-04) | C23: Đồng | D23: 12 | G23: =G17 -> 1812032.4 | H23: =G23 -> 1812032.4
A24: 2 | B24: Từ đầu năm đến cuối kỳ báo cáo (03-08) | C24: Đồng | D24: 13 | G24: =G21 -> 3744583.7 | H24: =G24 -> 3744583.7
A25: 3 | B25: Số còn nợ chưa nộp cấp trên đến cuối kỳ báo cáo | C25: Đồng | D25: 14 | G25: 0 | H25: =G25 -> 0
G27: Ngày tháng năm 2016
B28: Người lập | G28: T/M Cấp ủy
G32: Võ Đắc Thịnh

Sheet Thang 10
A1: ĐẢNG CỘNG SẢN VIỆT NAM | E1: Mẫu báo cáo B01/ĐP
A2: Đơn vị báo cáo: Chi bộ 3 | E2: Ban hành kèm theo Công văn số 141-CV/VPTW/nb
A3: Đơn vị nhận báo cáo: Đảng bộ trường CĐKT Lý Tự Trọng | E3: Ngày 17-3-2011 của Văn phòng Trung ương Đảng
A4: BÁO CÁO THU, NỘP ĐẢNG PHÍ
A5: Tháng 10 năm 2016
A7: TT | B7: Chỉ tiêu | C7: Đơn vị tính | D7: Mã số | E7: Đảng bộ xã, phường, thị trấn | F7: Đảng bộ doanh nghiệp | G7: Đảng bộ khác | H7: Cộng | I7: Ghi chú
A8: A | B8: B | C8: C | D8: D | E8: 1 | F8: 2 | G8: 3 | H8: 4=1+2+3 | I8: E
A9: I | B9: Tổng số Đảng viên đến cuối kỳ báo cáo | C9: Người | D9: 01 | G9: 14
A10: II | B10: Đảng phí thu được từ chi bộ của cấp báo cáo | C10: Đồng
A11: 1 | B11: Kỳ báo cáo | C11: Đồng | D11: 02 | G11: 781106.27 | H11: =G11 -> 781106.27
A12: 2 | B12: Từ đầu năm đến cuối kỳ báo cáo | C12: Đồng | D12: 03 | G12: =G11+'Thang 6'!G12 -> 6322886.6 | H12: =G12 -> 6322886.6
A13: III | B13: Đảng phí trích giữ lại ở các cấp | C13: Đồng
A14: 1 | B14: Kỳ báo cáo (05+06+07) | C14: Đồng | D14: 04
A15: 1.1 | B15: Chi bộ, đảng bộ bộ phận | C15: Đồng | D15: 5 | G15: =G11*30% -> 234331.88 | H15: =G15 -> 234331.88
A16: 1.2 | B16: Tổ chức cơ sở Đảng | C16: Đồng | D16: 6
A17: 1.3 | B17: Các cấp trên cơ sở | C17: Đồng | D17: 7 | G17: =G11*70% -> 546774.39 | H17: =G17 -> 546774.39
A18: 2 | B18: Từ đầu năm đến cuối kỳ báo cáo | C18: Đồng | D18: 8
A19: 2.1 | B19: Chi bộ, đảng bộ bộ phận | C19: Đồng | D19: 9 | G19: =G12*30% -> 1896866 | H19: =G19 -> 1896866
A20: 2.2 | B20: Tổ chức cơ sở Đảng | C20: Đồng | D20: 10
A21: 2.3 | B21: Các cấp trên cơ sở | C21: Đồng | D21: 11 | G21: =G12*70% -> 4426020.6 | H21: =G21 -> 4426020.6
A22: IV | B22: Đảng phí nộp cấp trên của cấp báo cáo | C22: Đồng
A23: 1 | B23: Số phải nộp kỳ báo cáo (02-04) | C23: Đồng | D23: 12 | G23: =G17 -> 546774.39 | H23: =G23 -> 546774.39
A24: 2 | B24: Từ đầu năm đến cuối kỳ báo cáo (03-08) | C24: Đồng | D24: 13 | G24: =G21 -> 4426020.6 | H24: =G24 -> 4426020.6
A25: 3 | B25: Số còn nợ chưa nộp cấp trên đến cuối kỳ báo cáo | C25: Đồng | D25: 14 | G25: 0 | H25: =G25 -> 0
G27: Ngày tháng năm 2016
B28: Người lập | G28: T/M Cấp ủy
G31: Võ Đắc Thịnh

Sheet Thang 11
A1: ĐẢNG CỘNG SẢN VIỆT NAM | E1: Mẫu báo cáo B01/ĐP
A2: Đơn vị báo cáo: Chi bộ 3 | E2: Ban hành kèm theo Công văn số 141-CV/VPTW/nb
A3: Đơn vị nhận báo cáo: Đảng bộ trường CĐKT Lý Tự Trọng | E3: Ngày 17-3-2011 của Văn phòng Trung ương Đảng
A4: BÁO CÁO THU, NỘP ĐẢNG PHÍ
A5: Tháng 11 năm 2016
A7: TT | B7: Chỉ tiêu | C7: Đơn vị tính | D7: Mã số | E7: Đảng bộ xã, phường, thị trấn | F7: Đảng bộ doanh nghiệp | G7: Đảng bộ khác | H7: Cộng | I7: Ghi chú
A8: A | B8: B | C8: C | D8: D | E8: 1 | F8: 2 | G8: 3 | H8: 4=1+2+3 | I8: E
A9: I | B9: Tổng số Đảng viên đến cuối kỳ báo cáo | C9: Người | D9: 01 | G9: 14
A10: II | B10: Đảng phí thu được từ chi bộ của cấp báo cáo | C10: Đồng
A11: 1 | B11: Kỳ báo cáo | C11: Đồng | D11: 02 | G11: 781106.27 | H11: =G11 -> 781106.27
A12: 2 | B12: Từ đầu năm đến cuối kỳ báo cáo | C12: Đồng | D12: 03 | G12: =G11+'Thang 6'!G12 -> 6322886.6 | H12: =G12 -> 6322886.6
A13: III | B13: Đảng phí trích giữ lại ở các cấp | C13: Đồng
A14: 1 | B14: Kỳ báo cáo (05+06+07) | C14: Đồng | D14: 04
A15: 1.1 | B15: Chi bộ, đảng bộ bộ phận | C15: Đồng | D15: 5 | G15: =G11*30% -> 234331.88 | H15: =G15 -> 234331.88
A16: 1.2 | B16: Tổ chức cơ sở Đảng | C16: Đồng | D16: 6
A17: 1.3 | B17: Các cấp trên cơ sở | C17: Đồng | D17: 7 | G17: =G11*70% -> 546774.39 | H17: =G17 -> 546774.39
A18: 2 | B18: Từ đầu năm đến cuối kỳ báo cáo | C18: Đồng | D18: 8
A19: 2.1 | B19: Chi bộ, đảng bộ bộ phận | C19: Đồng | D19: 9 | G19: =G12*30% -> 1896866 | H19: =G19 -> 1896866
A20: 2.2 | B20: Tổ chức cơ sở Đảng | C20: Đồng | D20: 10
A21: 2.3 | B21: Các cấp trên cơ sở | C21: Đồng | D21: 11 | G21: =G12*70% -> 4426020.6 | H21: =G21 -> 4426020.6
A22: IV | B22: Đảng phí nộp cấp trên của cấp báo cáo | C22: Đồng
A23: 1 | B23: Số phải nộp kỳ báo cáo (02-04) | C23: Đồng | D23: 12 | G23: =G17 -> 546774.39 | H23: =G23 -> 546774.39
A24: 2 | B24: Từ đầu năm đến cuối kỳ báo cáo (03-08) | C24: Đồng | D24: 13 | G24: =G21 -> 4426020.6 | H24: =G24 -> 4426020.6
A25: 3 | B25: Số còn nợ chưa nộp cấp trên đến cuối kỳ báo cáo | C25: Đồng | D25: 14 | G25: 0 | H25: =G25 -> 0
G27: Ngày tháng năm 2016
B28: Người lập | G28: T/M Cấp ủy
G31: Võ Đắc Thịnh

Sheet Thang 12
A1: ĐẢNG CỘNG SẢN VIỆT NAM | E1: Mẫu báo cáo B01/ĐP
A2: Đơn vị báo cáo: Chi bộ 3 | E2: Ban hành kèm theo Công văn số 141-CV/VPTW/nb
A3: Đơn vị nhận báo cáo: Đảng bộ trường CĐKT Lý Tự Trọng | E3: Ngày 17-3-2011 của Văn phòng Trung ương Đảng
A4: BÁO CÁO THU, NỘP ĐẢNG PHÍ
A5: Tháng 12 năm 2016
A7: TT | B7: Chỉ tiêu | C7: Đơn vị tính | D7: Mã số | E7: Đảng bộ xã, phường, thị trấn | F7: Đảng bộ doanh nghiệp | G7: Đảng bộ khác | H7: Cộng | I7: Ghi chú
A8: A | B8: B | C8: C | D8: D | E8: 1 | F8: 2 | G8: 3 | H8: 4=1+2+3 | I8: E
A9: I | B9: Tổng số Đảng viên đến cuối kỳ báo cáo | C9: Người | D9: 01 | G9: 14
A10: II | B10: Đảng phí thu được từ chi bộ của cấp báo cáo | C10: Đồng
A11: 1 | B11: Kỳ báo cáo | C11: Đồng | D11: 02 | G11: 781106.27 | H11: =G11 -> 781106.27
A12: 2 | B12: Từ đầu năm đến cuối kỳ báo cáo | C12: Đồng | D12: 03 | G12: =G11+'Thang 6'!G12 -> 6322886.6 | H12: =G12 -> 6322886.6
A13: III | B13: Đảng phí trích giữ lại ở các cấp | C13: Đồng
A14: 1 | B14: Kỳ báo cáo (05+06+07) | C14: Đồng | D14: 04
A15: 1.1 | B15: Chi bộ, đảng bộ bộ phận | C15: Đồng | D15: 5 | G15: =G11*30% -> 234331.88 | H15: =G15 -> 234331.88
A16: 1.2 | B16: Tổ chức cơ sở Đảng | C16: Đồng | D16: 6
A17: 1.3 | B17: Các cấp trên cơ sở | C17: Đồng | D17: 7 | G17: =G11*70% -> 546774.39 | H17: =G17 -> 546774.39
A18: 2 | B18: Từ đầu năm đến cuối kỳ báo cáo | C18: Đồng | D18: 8
A19: 2.1 | B19: Chi bộ, đảng bộ bộ phận | C19: Đồng | D19: 9 | G19: =G12*30% -> 1896866 | H19: =G19 -> 1896866
A20: 2.2 | B20: Tổ chức cơ sở Đảng | C20: Đồng | D20: 10
A21: 2.3 | B21: Các cấp trên cơ sở | C21: Đồng | D21: 11 | G21: =G12*70% -> 4426020.6 | H21: =G21 -> 4426020.6
A22: IV | B22: Đảng phí nộp cấp trên của cấp báo cáo | C22: Đồng
A23: 1 | B23: Số phải nộp kỳ báo cáo (02-04) | C23: Đồng | D23: 12 | G23: =G17 -> 546774.39 | H23: =G23 -> 546774.39
A24: 2 | B24: Từ đầu năm đến cuối kỳ báo cáo (03-08) | C24: Đồng | D24: 13 | G24: =G21 -> 4426020.6 | H24: =G24 -> 4426020.6
A25: 3 | B25: Số còn nợ chưa nộp cấp trên đến cuối kỳ báo cáo | C25: Đồng | D25: 14 | G25: 0 | H25: =G25 -> 0
G27: Ngày tháng năm 2016
B28: Người lập | G28: T/M Cấp ủy
G31: Võ Đắc Thịnh

Sheet Quy 4
A1: ĐẢNG CỘNG SẢN VIỆT NAM | E1: Mẫu báo cáo B01/ĐP
A2: Đơn vị báo cáo: Chi bộ 3 | E2: Ban hành kèm theo Công văn số 141-CV/VPTW/nb
A3: Đơn vị nhận báo cáo: Đảng bộ trường CĐKT Lý Tự Trọng | E3: Ngày 17-3-2011 của Văn phòng Trung ương Đảng
A4: BÁO CÁO THU, NỘP ĐẢNG PHÍ
A5: Quý 4 năm 2016
A7: TT | B7: Chỉ tiêu | C7: Đơn vị tính | D7: Mã số | E7: Đảng bộ xã, phường, thị trấn | F7: Đảng bộ doanh nghiệp | G7: Đảng bộ khác | H7: Cộng | I7: Ghi chú
A8: A | B8: B | C8: C | D8: D | E8: 1 | F8: 2 | G8: 3 | H8: 4=1+2+3 | I8: E
A9: I | B9: Tổng số Đảng viên đến cuối kỳ báo cáo | C9: Người | D9: 01 | G9: 14
A10: II | B10: Đảng phí thu được từ chi bộ của cấp báo cáo | C10: Đồng | M10: 2760787.5
A11: 1 | B11: Kỳ báo cáo | C11: Đồng | D11: 02 | G11: ='Thang 10'!G11+'Thang 12'!G11+'Thang 12'!G11 -> 2343318.8 | H11: =G11 -> 2343318.8 | M11: 2669992.7
A12: 2 | B12: Từ đầu năm đến cuối kỳ báo cáo | C12: Đồng | D12: 03 | G12: =G11+'Quy 1'!G12 -> 5104106.3 | H12: =G12 -> 5104106.3 | M12: =M10+M11 -> 5430780.3
A13: III | B13: Đảng phí trích giữ lại ở các cấp | C13: Đồng
A14: 1 | B14: Kỳ báo cáo (05+06+07) | C14: Đồng | D14: 04
A15: 1.1 | B15: Chi bộ, đảng bộ bộ phận | C15: Đồng | D15: 5 | G15: =G11*30% -> 702995.64 | H15: =G15 -> 702995.64
A16: 1.2 | B16: Tổ chức cơ sở Đảng | C16: Đồng | D16: 6
A17: 1.3 | B17: Các cấp trên cơ sở | C17: Đồng | D17: 7 | G17: =G11*70% -> 1640323.2 | H17: =G17 -> 1640323.2
A18: 2 | B18: Từ đầu năm đến cuối kỳ báo cáo | C18: Đồng | D18: 8
A19: 2.1 | B19: Chi bộ, đảng bộ bộ phận | C19: Đồng | D19: 9 | G19: =G12*30% -> 1531231.9 | H19: =G19 -> 1531231.9
A20: 2.2 | B20: Tổ chức cơ sở Đảng | C20: Đồng | D20: 10
A21: 2.3 | B21: Các cấp trên cơ sở | C21: Đồng | D21: 11 | G21: =G12*70% -> 3572874.4 | H21: =G21 -> 3572874.4
A22: IV | B22: Đảng phí nộp cấp trên của cấp báo cáo | C22: Đồng
A23: 1 | B23: Số phải nộp kỳ báo cáo (02-04) | C23: Đồng | D23: 12 | G23: =G17 -> 1640323.2 | H23: =G23 -> 1640323.2
A24: 2 | B24: Từ đầu năm đến cuối kỳ báo cáo (03-08) | C24: Đồng | D24: 13 | G24: =G21 -> 3572874.4 | H24: =G24 -> 3572874.4
A25: 3 | B25: Số còn nợ chưa nộp cấp trên đến cuối kỳ báo cáo | C25: Đồng | D25: 14 | G25: 0 | H25: =G25 -> 0
G27: Ngày tháng năm 2016
B28: Người lập | G28: T/M Cấp ủy
G32: Võ Đắc Thịnh
